BEGIN:VCALENDAR
VERSION:2.0
PRODID:-//Óbudai Zsinagóga honlapja - ECPv5.16.4//NONSGML v1.0//EN
CALSCALE:GREGORIAN
METHOD:PUBLISH
X-WR-CALNAME:Óbudai Zsinagóga honlapja
X-ORIGINAL-URL:https://obudaizsinagoga.hu
X-WR-CALDESC:Events for Óbudai Zsinagóga honlapja
BEGIN:VTIMEZONE
TZID:Europe/Budapest
BEGIN:DAYLIGHT
TZOFFSETFROM:+0100
TZOFFSETTO:+0200
TZNAME:CEST
DTSTART:20260329T010000
END:DAYLIGHT
BEGIN:STANDARD
TZOFFSETFROM:+0200
TZOFFSETTO:+0100
TZNAME:CET
DTSTART:20261025T010000
END:STANDARD
END:VTIMEZONE
BEGIN:VEVENT
DTSTART;TZID=Europe/Budapest:20260314T183400
DTEND;TZID=Europe/Budapest:20260314T183400
DTSTAMP:20260421T110345
CREATED:20260217T100245Z
LAST-MODIFIED:20260217T100245Z
UID:14620-1773513240-1773513240@obudaizsinagoga.hu
SUMMARY:Gut Sábesz! Szombati gyertyagyújtás időpontja 2026.03.13. 17:28 Szombat kimenetele 03.14. 18:34
DESCRIPTION:
URL:https://obudaizsinagoga.hu/esemenyek/gut-sabesz-szombati-gyertyagyujtas-idopontja-2026-03-13-1728-szombat-kimenetele-03-14-1834/
END:VEVENT
END:VCALENDAR