BEGIN:VCALENDAR
VERSION:2.0
PRODID:-//Óbudai Zsinagóga honlapja - ECPv5.16.4//NONSGML v1.0//EN
CALSCALE:GREGORIAN
METHOD:PUBLISH
X-WR-CALNAME:Óbudai Zsinagóga honlapja
X-ORIGINAL-URL:https://obudaizsinagoga.hu
X-WR-CALDESC:Events for Óbudai Zsinagóga honlapja
BEGIN:VTIMEZONE
TZID:Europe/Budapest
BEGIN:DAYLIGHT
TZOFFSETFROM:+0100
TZOFFSETTO:+0200
TZNAME:CEST
DTSTART:20240331T010000
END:DAYLIGHT
BEGIN:STANDARD
TZOFFSETFROM:+0200
TZOFFSETTO:+0100
TZNAME:CET
DTSTART:20241027T010000
END:STANDARD
END:VTIMEZONE
BEGIN:VEVENT
DTSTART;TZID=Europe/Budapest:20240428T205300
DTEND;TZID=Europe/Budapest:20240504T205300
DTSTAMP:20260420T145019
CREATED:20240408T071821Z
LAST-MODIFIED:20240408T072151Z
UID:13148-1714337580-1714855980@obudaizsinagoga.hu
SUMMARY:HETISZAKASZ: 2024.04.28-2024-05.04. Ácháré Mot פָּרָשָׁת אַחֲרֵי ide kattintva olvashatsz róla
DESCRIPTION:Mózs III. könyvének 6. szakasza \nSzakaszunk – Áchré Mot (3Mózes 16:1-18:30.) – a Jom Kippuri Szentély-szertartás módozatait\, áldozatait\, ismerteti\, elsősorban azt a gyakorlatot\, hogy a szolgálattevő főpap ún. „bűnbakot” küld a pusztaságba\, amely „magával viszi Izrael népének vétkeit”. Ezenfelül a szakasz – amit gyakran együtt olvasunk a következő\, Ködosim\, szakasszal – a zsidó élet szentségéről tárgyal\, ezzel kapcsolatos vonatkozásban előírásokat tartalmaz. \n\n  \n\n  \nÁcháré (3Mózes 16–18.) פָּרָשָׁת אַחֲרֵי \nA hetiszakasz tartalmából \n\nNádáv és Ávihu halálát követően az Örökkévaló óva int a „szentségbe” való illetéktelen belépéstől. Csupán egyetlen személy\, a Kohén Gádol (a főpap)\, és ő is csupán egy évben egyetlen egyszer léphet be a Szentély legbelső helyiségébe\, hogy ott felajánlja a megszentelt füstölőszert az Örökkévalónak. – 3Mózes 16:1–2.\nEgy másik jellemzője az engesztelő napi szolgálatnak a sorsvetés\, amelynek során eldől\, hogy két kecskebak közül melyiket áldozzák fel Istennek és melyiket küldjék el\, hogy magával vigye Izrael bűneit a pusztaságba. Ezen kívül még különböző más áldozatok is voltak\, amelyek egy részét a vérrel együtt a kinti oltáron\, más részének vérét pedig a Szentek Szentjében ajánlották fel. A „kinti” (Szentek Szentélyén kívüli) szolgálatot az egész évi díszes ruhájában végezte a főpap\, amikor azonban a Szentek Szentjében lépett\, egyszerű fehér ruhát öltött. Minden ruhacsere alkalmával meg kellett mosnia kezét és lábát. – 3Mózes 16:3–34.\nA hetiszakasz óva int attól\, hogy állat- és lisztáldozatot a Szentélyen kívül bárhol máshol hozzanak\, megtiltja a vér fogyasztását\, és részletesen tárgyalja azokat a törvényeket\, amelyek tiltják a vérfertőzést\, illetve más hasonlóan tilos nemi érintkezéseket. – 3Mózes 17–18.\n\n  \nzsido.com
URL:https://obudaizsinagoga.hu/esemenyek/hetiszakasz-2024-05-04-2024-05-05-achare-mot-%d7%a4%d6%b8%d6%bc%d7%a8%d6%b8%d7%a9%d6%b8%d7%81%d7%aa-%d7%90%d6%b7%d7%97%d6%b2%d7%a8%d6%b5%d7%99-ide-kattintva-olvashatsz-rola/
END:VEVENT
END:VCALENDAR